BEGIN:VCALENDAR
VERSION:2.0
PRODID:-//Crew Charlotte - ECPv6.15.18//NONSGML v1.0//EN
CALSCALE:GREGORIAN
METHOD:PUBLISH
X-ORIGINAL-URL:https://crewcharlotte.org
X-WR-CALDESC:Events for Crew Charlotte
REFRESH-INTERVAL;VALUE=DURATION:PT1H
X-Robots-Tag:noindex
X-PUBLISHED-TTL:PT1H
BEGIN:VTIMEZONE
TZID:America/New_York
BEGIN:DAYLIGHT
TZOFFSETFROM:-0500
TZOFFSETTO:-0400
TZNAME:EDT
DTSTART:20250309T070000
END:DAYLIGHT
BEGIN:STANDARD
TZOFFSETFROM:-0400
TZOFFSETTO:-0500
TZNAME:EST
DTSTART:20251102T060000
END:STANDARD
BEGIN:DAYLIGHT
TZOFFSETFROM:-0500
TZOFFSETTO:-0400
TZNAME:EDT
DTSTART:20260308T070000
END:DAYLIGHT
BEGIN:STANDARD
TZOFFSETFROM:-0400
TZOFFSETTO:-0500
TZNAME:EST
DTSTART:20261101T060000
END:STANDARD
BEGIN:DAYLIGHT
TZOFFSETFROM:-0500
TZOFFSETTO:-0400
TZNAME:EDT
DTSTART:20270314T070000
END:DAYLIGHT
BEGIN:STANDARD
TZOFFSETFROM:-0400
TZOFFSETTO:-0500
TZNAME:EST
DTSTART:20271107T060000
END:STANDARD
END:VTIMEZONE
BEGIN:VEVENT
DTSTART;TZID=America/New_York:20260423T083000
DTEND;TZID=America/New_York:20260423T093000
DTSTAMP:20260419T140250
CREATED:20260305T004753Z
LAST-MODIFIED:20260305T021719Z
UID:4354-1776933000-1776936600@crewcharlotte.org
SUMMARY:Authentic Leadership Program 2026 Latte & Learn - Session II
DESCRIPTION:Interested in learning more about CREW Charlotte’s Authentic Leadership Program? Join us for a casual meet and greet with Authentic Leadership Program alumni to discuss the program and answer questions. \nRegister Now
URL:https://crewcharlotte.org/event/authentic-leadership-program-latte-learn-2026-session-ii/
LOCATION:Amelie’s – Carmel Commons\, 7715 Pineville-Matthews Rd Unit 34B\, Charlotte\, NC\, 28226
ORGANIZER;CN="CREW Charlotte":MAILTO:executive@crewcharlotte.org
END:VEVENT
BEGIN:VEVENT
DTSTART;TZID=America/New_York:20260423T113000
DTEND;TZID=America/New_York:20260423T130000
DTSTAMP:20260419T140250
CREATED:20260323T134736Z
LAST-MODIFIED:20260323T135123Z
UID:4374-1776943800-1776949200@crewcharlotte.org
SUMMARY:April 2026 Lunch Ladder: "Tax Trends & Opportunities in CRE" with GreerWalker (Members Only)
DESCRIPTION:Get up to speed on the latest tax topics impacting commercial real estate. GreerWalker’s Stacia Neugent and Makayla Stiffler will share current trends\, planning ideas\, and insights to help CREW Charlotte members stay informed and proactive. In addition\, this will be a great opportunity to network with fellow CREW members. \n  \nPrice:  GreerWalker is generously providing lunch and parking for you.\nLocation: GreerWalker’s Office \n  \nRegister Now\n  \nThank You to Our Sponsor
URL:https://crewcharlotte.org/event/april-2026-lunch-ladder-tax-trends-opportunities-in-cre-with-greerwalker-members-only/
LOCATION:GreerWalker\, 227 West Trade Street\, Suite 1000\, Charlotte\, NC\, 28202\, United States
ORGANIZER;CN="CREW Charlotte":MAILTO:executive@crewcharlotte.org
END:VEVENT
BEGIN:VEVENT
DTSTART;TZID=America/New_York:20260428T113000
DTEND;TZID=America/New_York:20260428T130000
DTSTAMP:20260419T140250
CREATED:20260226T190614Z
LAST-MODIFIED:20260226T190614Z
UID:4348-1777375800-1777381200@crewcharlotte.org
SUMMARY:Authentic Leadership Program Lunch and Learn Session 2026
DESCRIPTION:Interested in learning more about CREW Charlotte’s Authentic Leadership Program? Join us for a free informative introduction with the program organizers and past graduates. This introductory session will be led by the Program Director\, Dr. Dawn Chanland. Dawn is the MBA Director Professor of Management & Organizational Behavior in the McColl School of Business with over 25 years of business\, consulting\, and academic experience and over 10 teaching and research awards since the beginning of her academic career. Learn how the Authentic Leadership Program will guide you on your journey through self-discovery\, arming you with the tools to achieve your full authentic leadership potential. Lunch will be served \n  \nRegister Now
URL:https://crewcharlotte.org/event/authentic-leadership-program-lunch-and-learn-session-2026/
LOCATION:Choate Construction\, 2907 Providence Road\, Charlotte\, 28211\, United States
ORGANIZER;CN="CREW Charlotte":MAILTO:executive@crewcharlotte.org
END:VEVENT
BEGIN:VEVENT
DTSTART;TZID=America/New_York:20260428T160000
DTEND;TZID=America/New_York:20260428T180000
DTSTAMP:20260419T140250
CREATED:20260325T150411Z
LAST-MODIFIED:20260416T134750Z
UID:4377-1777392000-1777399200@crewcharlotte.org
SUMMARY:Decorate Your Derby Hat Happy Hour
DESCRIPTION:Raise money for CREW Network Foundation and decorate a hat for the Kentucky Derby! Hats and all supplies included. Interested in sponsoring a horse? Contact Patty Drummond for more information. \nTuesday\, April 28\n4:00 p.m. – 6:00 p.m.\nMcAdams’ Office\nMembers – $35\nGuests – $60 \n  \nRegister Now
URL:https://crewcharlotte.org/event/decorate-your-derby-hat-happy-hour/
LOCATION:McAdams\, 2100 S Tryon St Suite 400\,\, Charlotte\, NC\, 28203
ORGANIZER;CN="CREW Charlotte":MAILTO:executive@crewcharlotte.org
END:VEVENT
BEGIN:VEVENT
DTSTART;TZID=America/New_York:20260429T080000
DTEND;TZID=America/New_York:20260429T100000
DTSTAMP:20260419T140250
CREATED:20260213T161613Z
LAST-MODIFIED:20260326T135403Z
UID:4330-1777449600-1777456800@crewcharlotte.org
SUMMARY:CREW Charlotte New Member Breakfast - Spring 2026
DESCRIPTION:Did you join CREW Charlotte in the last six months? Or have you been a member for a while and need a refresher on CREW Charlotte and all it has to offer? Please join your fellow CREW members for a New Member Breakfast.  Meet members of CREW Charlotte’s Leadership Team and representatives from our many CREW committees to see how you can get involved! \nWe will begin with a light breakfast and introductions during a welcome and brief overview of our CREW organization. This will be followed by informal networking and assistance with getting each of you established on the CREWBiz website.  If possible\, please bring your laptops/tablets or install the CREWbiz app to your phone prior to attending along with your CREWbiz user name and password. \nRegister Now\n  \nComplimentary parking is available. \nWe are excited to have you as a new member!
URL:https://crewcharlotte.org/event/crew-charlotte-new-member-breakfast-spring-2026/
LOCATION:Choate Construction\, 2907 Providence Road\, Charlotte\, 28211\, United States
ORGANIZER;CN="CREW Charlotte":MAILTO:executive@crewcharlotte.org
END:VEVENT
BEGIN:VEVENT
DTSTART;TZID=America/New_York:20260512T080000
DTEND;TZID=America/New_York:20260512T093000
DTSTAMP:20260419T140250
CREATED:20260407T124050Z
LAST-MODIFIED:20260407T124050Z
UID:4389-1778572800-1778578200@crewcharlotte.org
SUMMARY:May Before Hours with Womble Bond Dickinson (Members Only)
DESCRIPTION:Join us for a May Before Hours hosted by Womble Bond Dickinson \n  \nPrice:  Complimentary Continental Breakfast and Parking\nLocation: Womble Bond Dickinson \n  \nRegister Now\n  \nThank You to Our Sponsor
URL:https://crewcharlotte.org/event/may-before-hours-with-womble-bond-dickinson-members-only/
LOCATION:Womble Bond Dickinson\, 301 S. College Street Suite 3500\, Charlotte\, NC\, 28202
ORGANIZER;CN="CREW Charlotte":MAILTO:executive@crewcharlotte.org
END:VEVENT
BEGIN:VEVENT
DTSTART;TZID=America/New_York:20260519T150000
DTEND;TZID=America/New_York:20260519T173000
DTSTAMP:20260419T140250
CREATED:20260401T131417Z
LAST-MODIFIED:20260401T131559Z
UID:4387-1779202800-1779211800@crewcharlotte.org
SUMMARY:CREW Court Challenge 2026 (Pickleball)
DESCRIPTION:Join CREW Charlotte for our CREW Court Challenge (Pickleball) fundraising event. If you don’t want to play and just want to be a part of the day\, have snacks\, drinks\, and network\, register as an “observer.” All proceeds from the event will go to fund scholarships for students in fields of CRE. \nMember: $65\nNon-member:  $95\nObserver – Member: $25\nObserver – Non-Member: $50 \nRegister Now
URL:https://crewcharlotte.org/event/crew-court-challenge-2026-pickleball/
LOCATION:Pickleball Charlotte – Sharon Lakes\, 8401 Sharon Lakes Rd\, Charlotte\, NC\, 28210
ORGANIZER;CN="CREW Charlotte":MAILTO:executive@crewcharlotte.org
END:VEVENT
BEGIN:VEVENT
DTSTART;TZID=America/New_York:20260521T113000
DTEND;TZID=America/New_York:20260521T130000
DTSTAMP:20260419T140250
CREATED:20260401T131623Z
LAST-MODIFIED:20260401T131623Z
UID:4379-1779363000-1779368400@crewcharlotte.org
SUMMARY:CREW Charlotte May Lunch Ladder with Parker Poe: "Contracts and Comedy:  Tales from the Construction Law Trenches"
DESCRIPTION:Hear from CREW member\, Adrianne Chillemi\, about contract law.. In addition\, this will be a great opportunity to network with fellow CREW members. \n  \nPrice:  Lunch will be provided by Parker Poe..\nLocation: Legion Brewing Charlotte \n  \nRegister Now\n  \nThank You to Our Sponsor\n \n  \n  \n  \n 
URL:https://crewcharlotte.org/event/crew-charlotte-may-lunch-ladder-with-parker-poe-contracts-and-comedy-tales-from-the-construction-law-trenches/
LOCATION:Legion Brewing – Southpark\, 5610 Carnegie Boulevard\, Charlotte\, NC\, 28209
ORGANIZER;CN="CREW Charlotte":MAILTO:executive@crewcharlotte.org
END:VEVENT
END:VCALENDAR