BEGIN:VCALENDAR
VERSION:2.0
PRODID:-//Crew Charlotte - ECPv6.15.20//NONSGML v1.0//EN
CALSCALE:GREGORIAN
METHOD:PUBLISH
X-WR-CALNAME:Crew Charlotte
X-ORIGINAL-URL:https://crewcharlotte.org
X-WR-CALDESC:Events for Crew Charlotte
REFRESH-INTERVAL;VALUE=DURATION:PT1H
X-Robots-Tag:noindex
X-PUBLISHED-TTL:PT1H
BEGIN:VTIMEZONE
TZID:America/New_York
BEGIN:DAYLIGHT
TZOFFSETFROM:-0500
TZOFFSETTO:-0400
TZNAME:EDT
DTSTART:20250309T070000
END:DAYLIGHT
BEGIN:STANDARD
TZOFFSETFROM:-0400
TZOFFSETTO:-0500
TZNAME:EST
DTSTART:20251102T060000
END:STANDARD
BEGIN:DAYLIGHT
TZOFFSETFROM:-0500
TZOFFSETTO:-0400
TZNAME:EDT
DTSTART:20260308T070000
END:DAYLIGHT
BEGIN:STANDARD
TZOFFSETFROM:-0400
TZOFFSETTO:-0500
TZNAME:EST
DTSTART:20261101T060000
END:STANDARD
BEGIN:DAYLIGHT
TZOFFSETFROM:-0500
TZOFFSETTO:-0400
TZNAME:EDT
DTSTART:20270314T070000
END:DAYLIGHT
BEGIN:STANDARD
TZOFFSETFROM:-0400
TZOFFSETTO:-0500
TZNAME:EST
DTSTART:20271107T060000
END:STANDARD
END:VTIMEZONE
BEGIN:VEVENT
DTSTART;TZID=America/New_York:20260301T000000
DTEND;TZID=America/New_York:20261231T235900
DTSTAMP:20260423T051507
CREATED:20250715T153803Z
LAST-MODIFIED:20260225T212357Z
UID:4071-1772323200-1798761540@crewcharlotte.org
SUMMARY:Volunteer with CREW Charlotte and Safe Alliance
DESCRIPTION:Volunteer with CREW Charlotte for Safe Alliance with kitchen preparation and meal service.  \n  \nClick the link below to register. \nhttps://www.signupgenius.com/go/10C0A45A8AE29ABFECF8-56520994-safe \nWHEN: Various dates \nBoth volunteer slots reoccur monthly – 1st Tuesday and 3rd Thursday of the month. \nClick the link below to register for your preferred day and time. \nWHERE: Shelter location to be disclosed after registration. See link for additional information. \nWHO: CREW Members \, non-CREW members\, and family (children 16 and older) \nWHAT: Prepare\, serve\, and clean up after meal shift (2 shifts available – lunch and/ or dinner) \nHOW MANY: 3 volunteers maximum per shift \nSHIFT DETAILS: Please click on the link above and follow the instructions for a required background check. \n  \n 
URL:https://crewcharlotte.org/event/volunteer-with-crew-charlotte-and-safe-alliance-2/
LOCATION:NC
ORGANIZER;CN="CREW Charlotte":MAILTO:executive@crewcharlotte.org
END:VEVENT
BEGIN:VEVENT
DTSTART;TZID=America/New_York:20260421T160000
DTEND;TZID=America/New_York:20260421T174500
DTSTAMP:20260423T051507
CREATED:20260219T205006Z
LAST-MODIFIED:20260317T183933Z
UID:4338-1776787200-1776793500@crewcharlotte.org
SUMMARY:April 2026 Book Club: "It Worked for Me: In Life and Leadership" by Colin Powell
DESCRIPTION:Join us as we dive into It Worked for Me: In Life and Leadership by Colin Powell – a practical\, straight-talk guide to leading with character\, confidence\, and common sense. Blending memorable stories with the famous “Thirteen Rules” he lived by\, Powell shares the lessons that shaped his journey from the Bronx to the highest levels of military and public service. His advice is clear\, relatable\, and often surprisingly funny. Whether you’re leading a team\, growing your career\, or just looking for timeless wisdom you can actually use\, this book promises a lively conversation about what leadership really looks like in action. \n  \nhttps://www.amazon.com/Worked-Me-Life-Leadership/dp/0062135139 \n  \nMembers – Complimentary\nGuests – $25 \n  \nRegister Now\n  \n  \n 
URL:https://crewcharlotte.org/event/april-2026-book-club-it-worked-for-me-in-life-and-leadership-by-colin-powell/
LOCATION:Progressive Companies\, 1801 Graham Street\, Suite 200\, Charlotte\, 28206\, United States
ORGANIZER;CN="CREW Charlotte":MAILTO:executive@crewcharlotte.org
END:VEVENT
END:VCALENDAR