BEGIN:VCALENDAR
VERSION:2.0
PRODID:-//Crew Charlotte - ECPv6.15.20//NONSGML v1.0//EN
CALSCALE:GREGORIAN
METHOD:PUBLISH
X-ORIGINAL-URL:https://crewcharlotte.org
X-WR-CALDESC:Events for Crew Charlotte
REFRESH-INTERVAL;VALUE=DURATION:PT1H
X-Robots-Tag:noindex
X-PUBLISHED-TTL:PT1H
BEGIN:VTIMEZONE
TZID:America/New_York
BEGIN:DAYLIGHT
TZOFFSETFROM:-0500
TZOFFSETTO:-0400
TZNAME:EDT
DTSTART:20250309T070000
END:DAYLIGHT
BEGIN:STANDARD
TZOFFSETFROM:-0400
TZOFFSETTO:-0500
TZNAME:EST
DTSTART:20251102T060000
END:STANDARD
BEGIN:DAYLIGHT
TZOFFSETFROM:-0500
TZOFFSETTO:-0400
TZNAME:EDT
DTSTART:20260308T070000
END:DAYLIGHT
BEGIN:STANDARD
TZOFFSETFROM:-0400
TZOFFSETTO:-0500
TZNAME:EST
DTSTART:20261101T060000
END:STANDARD
BEGIN:DAYLIGHT
TZOFFSETFROM:-0500
TZOFFSETTO:-0400
TZNAME:EDT
DTSTART:20270314T070000
END:DAYLIGHT
BEGIN:STANDARD
TZOFFSETFROM:-0400
TZOFFSETTO:-0500
TZNAME:EST
DTSTART:20271107T060000
END:STANDARD
END:VTIMEZONE
BEGIN:VEVENT
DTSTART;TZID=America/New_York:20260301T000000
DTEND;TZID=America/New_York:20261231T235900
DTSTAMP:20260421T125447
CREATED:20250715T153803Z
LAST-MODIFIED:20260225T212357Z
UID:4071-1772323200-1798761540@crewcharlotte.org
SUMMARY:Volunteer with CREW Charlotte and Safe Alliance
DESCRIPTION:Volunteer with CREW Charlotte for Safe Alliance with kitchen preparation and meal service.  \n  \nClick the link below to register. \nhttps://www.signupgenius.com/go/10C0A45A8AE29ABFECF8-56520994-safe \nWHEN: Various dates \nBoth volunteer slots reoccur monthly – 1st Tuesday and 3rd Thursday of the month. \nClick the link below to register for your preferred day and time. \nWHERE: Shelter location to be disclosed after registration. See link for additional information. \nWHO: CREW Members \, non-CREW members\, and family (children 16 and older) \nWHAT: Prepare\, serve\, and clean up after meal shift (2 shifts available – lunch and/ or dinner) \nHOW MANY: 3 volunteers maximum per shift \nSHIFT DETAILS: Please click on the link above and follow the instructions for a required background check. \n  \n 
URL:https://crewcharlotte.org/event/volunteer-with-crew-charlotte-and-safe-alliance-2/
LOCATION:NC
ORGANIZER;CN="CREW Charlotte":MAILTO:executive@crewcharlotte.org
END:VEVENT
BEGIN:VEVENT
DTSTART;TZID=America/New_York:20260306T080000
DTEND;TZID=America/New_York:20260306T093000
DTSTAMP:20260421T125447
CREATED:20260126T165744Z
LAST-MODIFIED:20260126T165744Z
UID:4267-1772784000-1772789400@crewcharlotte.org
SUMMARY:Coffee Klatch - Rea Farms
DESCRIPTION:Join CREW Charlotte for a Coffee Klatch in the Ballantyne area. \nFood and beverage purchased directly with restaurant. \nMembers – Complimentary\nGuests – $25 \n  \nRegister Now
URL:https://crewcharlotte.org/event/coffee-klatch-rea-farms/
LOCATION:Paris Baguette\, 9826 Sandy Rock Place A\, Charlotte\, NC\, 28277\, United States
ORGANIZER;CN="CREW Charlotte":MAILTO:executive@crewcharlotte.org
END:VEVENT
BEGIN:VEVENT
DTSTART;TZID=America/New_York:20260306T080000
DTEND;TZID=America/New_York:20260306T160000
DTSTAMP:20260421T125447
CREATED:20260126T152744Z
LAST-MODIFIED:20260127T151020Z
UID:4270-1772784000-1772812800@crewcharlotte.org
SUMMARY:Habitat for Humanity Build Day with CREW Charlotte - March 2026
DESCRIPTION:SHIFT DETAILS\n\n\nDATE / TIME\n03/06/2026 8:00 AM – 4:00 PM\n\n\nLOCATIONTBD\nCharlotte\, NC 28216\n\n\n\n\n\n\nTASK\nVolunteers will work on interior painting\nAGE REQUIREMENT: 16+. 16 & 17 year old’s cannot use power tools or work at heights 6 feet & above\n\n\n# OF SPOTS RESERVED\n10\n\n\nAGE REQUIREMENT\nNo one under 16 is permitted on the work site. However\, certain tasks (namely roof work) require volunteers to  be 18 or older. If you are unsure about this shift’s age requirement\, please refer back to the shift listing or contact HFHCR Volunteer Services.\n\n\nWAIVER INFORMATION\nIf a volunteer registers him/herself for the shift via HFHCR’s online registration system\, he/she does not need to fill out a hardcopy of the Standard Release of Liability Form (it will have been read and electronically signed). However\, If a HFHCR staff member or a group leader registered on his/her behalf\, please have the volunteer fill out a waiver beforehand or upon arrival to site. ALL volunteers should sign the sign-in sheet to confirm attendance.\n16 & 17 YEAR OLD VOLUNTEERS: In addition to the aforementioned waiver\, which is read & electronically signed during the online registration system\, all 16 & 17 year olds must print the Release of Liability for Minors Formand have it completed by a parent/legal guardian. The form should be brought the day of the shift.\n\n\n\n\n\n\nVOLUNTEER INFORMATION\nHelpful Volunteer Information: https://www.dropbox.com/s/oia1s5ehkzuw9y2/Helpful%20Volunteer%20Information.pdf?dl=0 \nDrinking water and all necessary tools & safety equipment will be provided by HFHCR. Closed-toed footwear (work boots or athletic sneakers only) is required. We recommend bringing your own work gloves\, if available. Lunch is not provided by HFHCR.\nThe HFHCR staff makes every effort to keep build schedules on track. However\, due to occasional inclement weather and necessary adjustments to house schedules\, your group’s task is subject to change. You will be notified by email if anything has to change.\n\n\n\n  \n\n\n\nREGISTRATION INSTRUCTIONS\nREMINDER: The online registration process allows the required Standard Release of Liability Form to be read & electronically signed.\n\n\nREGISTRATION WEBPAGE\nhttps://habitatcharlotteregion.my.site.com/VolunteerGroupSearch\n\n\nVOLUNTEER GROUP ID\n8505\n\n\nINSTRUCTIONS\nSTEP 1: Go to the Habitat Charlotte Region Group Shift Search link: https://habitatcharlotteregion.my.site.com/VolunteerGroupSearch\n\n\nSTEP 2: Enter your group ID number (above)\n\n\nSTEP 3: Check the box next to the group name; Click “SELECT”\n\n\nSTEP 4: On the Volunteer Group Shift Search page\, click “SEARCH” and your team’s scheduled shift(s) will appear. Choose the desired shift(s) and click “SELECT”\n\n\nSTEP 5:\nNEW USER/VOLUNTEER: Click “New User” to be prompted to create a new account.\nEXISTING USER/RETURNING VOLUNTEER: Your volunteer account email is your username.  If you’ve forgotten your password\, you can request a new one by clicking “Forgot Your Password?”Please note:  Our database has upgraded its security.  You must use Windows 7 or newer\, Mozilla Firefox or Google Chrome.   \n\n\nPOST-REGISTRATION DETAILS\nAfter completing the registration\, the shift and details will appear on the volunteer’s account. An automated confirmation email with full shift details will be sent to each registrant. A reminder email will also be sent.\n\n\nIMPORTANT NOTE\nPlease do not hesitate to contact a Volunteer Services staff member if you have any questions\, need assistance\, or would like to provide feedback on our registration system. We’d welcome it!
URL:https://crewcharlotte.org/event/habitat-for-humanity-build-day-with-crew-charlotte-march-2026/
LOCATION:NC
ORGANIZER;CN="CREW Charlotte":MAILTO:executive@crewcharlotte.org
END:VEVENT
END:VCALENDAR