BEGIN:VCALENDAR
VERSION:2.0
PRODID:-//Crew Charlotte - ECPv6.15.20//NONSGML v1.0//EN
CALSCALE:GREGORIAN
METHOD:PUBLISH
X-ORIGINAL-URL:https://crewcharlotte.org
X-WR-CALDESC:Events for Crew Charlotte
REFRESH-INTERVAL;VALUE=DURATION:PT1H
X-Robots-Tag:noindex
X-PUBLISHED-TTL:PT1H
BEGIN:VTIMEZONE
TZID:America/New_York
BEGIN:DAYLIGHT
TZOFFSETFROM:-0500
TZOFFSETTO:-0400
TZNAME:EDT
DTSTART:20230312T070000
END:DAYLIGHT
BEGIN:STANDARD
TZOFFSETFROM:-0400
TZOFFSETTO:-0500
TZNAME:EST
DTSTART:20231105T060000
END:STANDARD
BEGIN:DAYLIGHT
TZOFFSETFROM:-0500
TZOFFSETTO:-0400
TZNAME:EDT
DTSTART:20240310T070000
END:DAYLIGHT
BEGIN:STANDARD
TZOFFSETFROM:-0400
TZOFFSETTO:-0500
TZNAME:EST
DTSTART:20241103T060000
END:STANDARD
BEGIN:DAYLIGHT
TZOFFSETFROM:-0500
TZOFFSETTO:-0400
TZNAME:EDT
DTSTART:20250309T070000
END:DAYLIGHT
BEGIN:STANDARD
TZOFFSETFROM:-0400
TZOFFSETTO:-0500
TZNAME:EST
DTSTART:20251102T060000
END:STANDARD
END:VTIMEZONE
BEGIN:VEVENT
DTSTART;TZID=America/New_York:20241112T173000
DTEND;TZID=America/New_York:20241112T203000
DTSTAMP:20260424T102515
CREATED:20241009T143816Z
LAST-MODIFIED:20241105T140712Z
UID:3398-1731432600-1731443400@crewcharlotte.org
SUMMARY:2024 Impact Awards Reception
DESCRIPTION:Join us for a reception to recognize your fellow commercial real estate professionals at CREW Charlotte’s Impact Awards! Enjoy heavy hors d’oeuvres and an open bar while celebrating and networking with colleagues. \nImpact Award Honorees \nThe following awards will be given:\nEmerging Leaders – Hannah Breed\, Urban Design Partners\nCarrie Sharp Power Connector – Barbara Briccotto\, Progressive Companies\nCareer Advancement for Women – Mary Wilken\, Insite Properties\nEntrepreneurial Spirit – Ashley Cooper and Caitlin McCain\, Cooper + McCain\nDiversity\, Equity & Inclusion – Allison Simpson\, Primax Properties\nCommunity Project Impact – for profit – Crescent Communities and Nuveen Real Estate for One Independence Center\nCommunity Project Impact – non profit – The Ella B. Scarborough Community Resource Center\nCreative Design – LS3P for Ten30 Corporate Campus\nCircle of Excellence – Nancy Olah\, Nancy Olah Law\n \nEmcee\n\nMolly Grantham \n  \nThe Mint Museum Uptown\n5:30 p.m. – 8:30 p.m.\n$125 Members/$150 Guests\n$1\,500 – Table Host (table of 8) \n  \nRegister Now
URL:https://crewcharlotte.org/event/2024-impact-awards-reception/
LOCATION:The Mint Museum Uptown\, 500 S. Tryon Street\, Charlotte\, NC\, 28202\, United States
ORGANIZER;CN="CREW Charlotte":MAILTO:executive@crewcharlotte.org
END:VEVENT
END:VCALENDAR