BEGIN:VCALENDAR
VERSION:2.0
PRODID:-//Crew Charlotte - ECPv6.15.20//NONSGML v1.0//EN
CALSCALE:GREGORIAN
METHOD:PUBLISH
X-ORIGINAL-URL:https://crewcharlotte.org
X-WR-CALDESC:Events for Crew Charlotte
REFRESH-INTERVAL;VALUE=DURATION:PT1H
X-Robots-Tag:noindex
X-PUBLISHED-TTL:PT1H
BEGIN:VTIMEZONE
TZID:America/New_York
BEGIN:DAYLIGHT
TZOFFSETFROM:-0500
TZOFFSETTO:-0400
TZNAME:EDT
DTSTART:20210314T070000
END:DAYLIGHT
BEGIN:STANDARD
TZOFFSETFROM:-0400
TZOFFSETTO:-0500
TZNAME:EST
DTSTART:20211107T060000
END:STANDARD
BEGIN:DAYLIGHT
TZOFFSETFROM:-0500
TZOFFSETTO:-0400
TZNAME:EDT
DTSTART:20220313T070000
END:DAYLIGHT
BEGIN:STANDARD
TZOFFSETFROM:-0400
TZOFFSETTO:-0500
TZNAME:EST
DTSTART:20221106T060000
END:STANDARD
BEGIN:DAYLIGHT
TZOFFSETFROM:-0500
TZOFFSETTO:-0400
TZNAME:EDT
DTSTART:20230312T070000
END:DAYLIGHT
BEGIN:STANDARD
TZOFFSETFROM:-0400
TZOFFSETTO:-0500
TZNAME:EST
DTSTART:20231105T060000
END:STANDARD
END:VTIMEZONE
BEGIN:VEVENT
DTSTART;TZID=America/New_York:20220504T070000
DTEND;TZID=America/New_York:20220504T070000
DTSTAMP:20260423T063626
CREATED:20220117T201848Z
LAST-MODIFIED:20220503T172453Z
UID:2237-1651647600-1651647600@crewcharlotte.org
SUMMARY:Signature Luncheon with Alison Levine "On the Edge:  The Art of High-Impact Leadership" - SOLD OUT
DESCRIPTION:To be added to the waitlist\, please email Patty Drummond at executive@crewcharlotte.org. \nAlison Levine\nFirst American Women’s Everest Expedition Team Captain\, faculty member at the Thayer Leader Development Group at West Point\, New York Times bestselling author of On the Edge \nImagine yourself on the highest mountain in the world. You have to deal with the physiological effects of extreme altitude–along with bone-chilling temperatures\, battering winds\, and a climbing team that’s counting on all of its members to make smart decisions. There’s simply no room for poor judgment — one mistake or misstep can result in an “unrecoverable error.” In any situation where lives on are the line or the stakes are exceptionally high–there’s no better training ground for leaders than settings where people are pushed beyond their perceived limits. Drawing on her experience as team captain of the first American Women’s Everest Expedition\, Alison Levine makes a compelling case that the leadership principles that apply in the world of extreme adventure also apply to today’s rigorously competitive business environments. \n  \nThe Westin Charlotte\n11:00 a.m. – Networking\n11:30 a.m. – Luncheon \n$100 Members/$150 Guests\n$1250 Table Host (reserved table of 8) \nSponsorship Opportunities available! \nRegister Now\n 
URL:https://crewcharlotte.org/event/signature-luncheon-with-alison-levine-on-the-edge-the-art-of-high-impact-leadership/
LOCATION:NC
ORGANIZER;CN="CREW Charlotte":MAILTO:executive@crewcharlotte.org
END:VEVENT
END:VCALENDAR